BEGIN:VCALENDAR
VERSION:2.0
PRODID:-//Tukios.com/
BEGIN:VEVENT
UID:18fa0c12-f491-48e5-9f3c-acaf9ba2ce63@obits.bjmeyersons.com
DTSTAMP:20260421T025816Z
DTSTART:20260425T160000Z
DTEND:20260425T170000Z
SUMMARY:Funeral Service
DESCRIPTION:
URL:https://obits.bjmeyersons.com/zachery-hammann
LOCATION: 5864 Bridgetown Road  Cincinnati OH 45248
GEO:39.1607697;-84.6407981
END:VEVENT
END:VCALENDAR