BEGIN:VCALENDAR
VERSION:2.0
PRODID:-//Tukios.com/
BEGIN:VEVENT
UID:71195312-6bcf-4dce-8698-06abceb840dc@obits.bjmeyersons.com
DTSTAMP:20260421T030218Z
DTSTART:20260425T140000Z
DTEND:20260425T160000Z
SUMMARY:Visitation
DESCRIPTION:
URL:https://obits.bjmeyersons.com/zachery-hammann
LOCATION: 5864 Bridgetown Road  Cincinnati OH 45248
GEO:39.1607697;-84.6407981
END:VEVENT
END:VCALENDAR