BEGIN:VCALENDAR
VERSION:2.0
PRODID:-//Tukios.com/
BEGIN:VEVENT
UID:1ccafc5a-c33a-416a-bd0e-c28eafd2b631@obits.bjmeyersons.com
DTSTAMP:20260424T184120Z
DTSTART:20260429T160000Z
DTEND:20260429T170000Z
SUMMARY:Funeral Service
DESCRIPTION:
URL:https://obits.bjmeyersons.com/joyce-flower
LOCATION: 5864 Bridgetown Rd  Cincinnati OH 45248
GEO:39.1607697;-84.6407981
END:VEVENT
END:VCALENDAR