BEGIN:VCALENDAR
VERSION:2.0
PRODID:-//Tukios.com/
BEGIN:VEVENT
UID:4657a374-b174-4d62-871f-e9031d29539e@obits.bjmeyersons.com
DTSTAMP:20260424T184120Z
DTSTART:20260429T140000Z
DTEND:20260429T160000Z
SUMMARY:Visitation
DESCRIPTION:
URL:https://obits.bjmeyersons.com/joyce-flower
LOCATION: 5864 Bridgetown Rd  Cincinnati OH 45248
GEO:39.1607697;-84.6407981
END:VEVENT
END:VCALENDAR