BEGIN:VCALENDAR
VERSION:2.0
PRODID:-//Tukios.com/
BEGIN:VEVENT
UID:8b4e52a1-2000-4322-8b68-a22a3b1426ee@obits.bjmeyersons.com
DTSTAMP:20260424T212503Z
DTSTART:20260501T170000Z
DTEND:20260501T180000Z
SUMMARY:Interment
DESCRIPTION:
URL:https://obits.bjmeyersons.com/claire-brodbeck-haberthier
LOCATION: 3819 W 8th St  Cincinnati OH 45205
GEO:39.105922;-84.575856
END:VEVENT
END:VCALENDAR