BEGIN:VCALENDAR
VERSION:2.0
PRODID:-//Tukios.com/
BEGIN:VEVENT
UID:82a1b15d-1195-4ab1-8d24-eb9dcdc0a92e@obits.bjmeyersons.com
DTSTAMP:20260424T212313Z
DTSTART:20260501T153000Z
DTEND:20260501T163000Z
SUMMARY:Mass
DESCRIPTION:
URL:https://obits.bjmeyersons.com/claire-brodbeck-haberthier
LOCATION: 1500 Linneman Rd  Cincinnati OH 45238
GEO:39.1221776;-84.6232137
END:VEVENT
END:VCALENDAR