BEGIN:VCALENDAR
VERSION:2.0
PRODID:-//Tukios.com/
BEGIN:VEVENT
UID:d11d9c59-a70c-4ec9-b812-76517ed8d433@obits.bjmeyersons.com
DTSTAMP:20260424T212556Z
DTSTART:20260501T143000Z
DTEND:20260501T153000Z
SUMMARY:Visitation
DESCRIPTION:
URL:https://obits.bjmeyersons.com/claire-brodbeck-haberthier
LOCATION: 1500 Linneman Rd  Cincinnati OH 45238
GEO:39.1221776;-84.6232137
END:VEVENT
END:VCALENDAR