BEGIN:VCALENDAR
VERSION:2.0
PRODID:-//Tukios.com/
BEGIN:VEVENT
UID:1f1f1cb9-799d-4f71-835c-b8b7e0d39661@obits.bjmeyersons.com
DTSTAMP:20260425T195655Z
DTSTART:20260502T160000Z
DTEND:20260502T170000Z
SUMMARY:Funeral Service
DESCRIPTION:
URL:https://obits.bjmeyersons.com/antony-richardson
LOCATION: 5864 Bridgetown Road  Cincinnati OH 45248
GEO:39.1607697;-84.6407981
END:VEVENT
END:VCALENDAR