BEGIN:VCALENDAR
VERSION:2.0
PRODID:-//Tukios.com/
BEGIN:VEVENT
UID:364140f0-054b-4a9b-8f3a-d109f8e16f02@obits.bjmeyersons.com
DTSTAMP:20260425T195956Z
DTSTART:20260502T140000Z
DTEND:20260502T160000Z
SUMMARY:Visitation
DESCRIPTION:
URL:https://obits.bjmeyersons.com/antony-richardson
LOCATION: 5864 Bridgetown Road  Cincinnati OH 45248
GEO:39.1607697;-84.6407981
END:VEVENT
END:VCALENDAR